BEGIN:VCALENDAR
VERSION:2.0
PRODID:-//Todmorden Town Council - ECPv6.15.20//NONSGML v1.0//EN
CALSCALE:GREGORIAN
METHOD:PUBLISH
X-WR-CALNAME:Todmorden Town Council
X-ORIGINAL-URL:https://todmorden-tc.gov.uk
X-WR-CALDESC:Events for Todmorden Town Council
REFRESH-INTERVAL;VALUE=DURATION:PT1H
X-Robots-Tag:noindex
X-PUBLISHED-TTL:PT1H
BEGIN:VTIMEZONE
TZID:Europe/London
BEGIN:DAYLIGHT
TZOFFSETFROM:+0000
TZOFFSETTO:+0100
TZNAME:BST
DTSTART:20250330T010000
END:DAYLIGHT
BEGIN:STANDARD
TZOFFSETFROM:+0100
TZOFFSETTO:+0000
TZNAME:GMT
DTSTART:20251026T010000
END:STANDARD
BEGIN:DAYLIGHT
TZOFFSETFROM:+0000
TZOFFSETTO:+0100
TZNAME:BST
DTSTART:20260329T010000
END:DAYLIGHT
BEGIN:STANDARD
TZOFFSETFROM:+0100
TZOFFSETTO:+0000
TZNAME:GMT
DTSTART:20261025T010000
END:STANDARD
BEGIN:DAYLIGHT
TZOFFSETFROM:+0000
TZOFFSETTO:+0100
TZNAME:BST
DTSTART:20270328T010000
END:DAYLIGHT
BEGIN:STANDARD
TZOFFSETFROM:+0100
TZOFFSETTO:+0000
TZNAME:GMT
DTSTART:20271031T010000
END:STANDARD
END:VTIMEZONE
BEGIN:VEVENT
DTSTART;TZID=Europe/London:20260311T193000
DTEND;TZID=Europe/London:20260311T210000
DTSTAMP:20260424T145946
CREATED:20241018T111925Z
LAST-MODIFIED:20260304T175010Z
UID:13625-1773257400-1773262800@todmorden-tc.gov.uk
SUMMARY:Resources Committee
DESCRIPTION:Resources Summons and Agenda 11th March 2026 \nItem 5 Resources Minutes 11th Feb 2026 \nItem 6a Financial Summary as at 4th March 2026 \nItem 6b EMRS Summary as at 4th March 2026 \nItem 6c Balance Sheet as at 04_03_2026 \nItem 6d Detailed Income & Expenditure by Budget Heading 04_03_2026 \nItem 7 TTC Discretionary Grants Policy 2026 \nItem 8 End of year adjustments 25-26 \nItem 9a Asset Register Financial Summary \nItem 9b Todmorden Town Council Asset Register as at 31st March 2026 \nItem 10 TIC Report 11th March Resources Committee \nItem 11 Outstanding Project Work
URL:https://todmorden-tc.gov.uk/event/resources-committee-19/
LOCATION:Todmorden Town Hall\, Todmorden Town Council\, Todmorden\, Lancashire\, OL14 5AQ\, United Kingdom
CATEGORIES:Council Meeting
END:VEVENT
END:VCALENDAR