BEGIN:VCALENDAR
VERSION:2.0
PRODID:-//Todmorden Town Council - ECPv6.15.20//NONSGML v1.0//EN
CALSCALE:GREGORIAN
METHOD:PUBLISH
X-WR-CALNAME:Todmorden Town Council
X-ORIGINAL-URL:https://todmorden-tc.gov.uk
X-WR-CALDESC:Events for Todmorden Town Council
REFRESH-INTERVAL;VALUE=DURATION:PT1H
X-Robots-Tag:noindex
X-PUBLISHED-TTL:PT1H
BEGIN:VTIMEZONE
TZID:Europe/London
BEGIN:DAYLIGHT
TZOFFSETFROM:+0000
TZOFFSETTO:+0100
TZNAME:BST
DTSTART:20250330T010000
END:DAYLIGHT
BEGIN:STANDARD
TZOFFSETFROM:+0100
TZOFFSETTO:+0000
TZNAME:GMT
DTSTART:20251026T010000
END:STANDARD
BEGIN:DAYLIGHT
TZOFFSETFROM:+0000
TZOFFSETTO:+0100
TZNAME:BST
DTSTART:20260329T010000
END:DAYLIGHT
BEGIN:STANDARD
TZOFFSETFROM:+0100
TZOFFSETTO:+0000
TZNAME:GMT
DTSTART:20261025T010000
END:STANDARD
BEGIN:DAYLIGHT
TZOFFSETFROM:+0000
TZOFFSETTO:+0100
TZNAME:BST
DTSTART:20270328T010000
END:DAYLIGHT
BEGIN:STANDARD
TZOFFSETFROM:+0100
TZOFFSETTO:+0000
TZNAME:GMT
DTSTART:20271031T010000
END:STANDARD
END:VTIMEZONE
BEGIN:VEVENT
DTSTART;TZID=Europe/London:20260318T193000
DTEND;TZID=Europe/London:20260318T210000
DTSTAMP:20260424T170414
CREATED:20241018T112012Z
LAST-MODIFIED:20260312T153641Z
UID:13627-1773862200-1773867600@todmorden-tc.gov.uk
SUMMARY:Full Council
DESCRIPTION:Summons and Agenda Full Council – 18th March 2026 \nItem 5 Minutes FC 18th February 2026 \nItem 6a Draft CEC Minutes 25th feb 2026 Meeting \nItem 6b Draft Minutes 4th March Development Committee \nItem 6c Draft Resources Minutes 11th March 2026 \nItem 7a Financial Summary as at 10th March 2026 \nItem 7b EMRs as at 10th March 2026 \nItem 7c Balance Sheet at 10-03-26 \nItem 7d Detailed Income & Expenditure 10_03_2026 \nItem 8 Schedule of Payments 11 Feb to 10 March 2026 \nItem 9 – Asset Register & Financial Summary \nItem 10 TTC Discretionary Grants Policy 2026 \nItem 11 Todmorden Food Drop In Report to Council March 2026 \nItem 12a Completed work \nitem 12b Town Clerk Outstanding work \n 
URL:https://todmorden-tc.gov.uk/event/full-council-18/
LOCATION:Todmorden Town Hall\, Todmorden Town Council\, Todmorden\, Lancashire\, OL14 5AQ\, United Kingdom
CATEGORIES:Council Meeting
END:VEVENT
END:VCALENDAR