BEGIN:VCALENDAR
VERSION:2.0
PRODID:-//Todmorden Town Council - ECPv6.15.20//NONSGML v1.0//EN
CALSCALE:GREGORIAN
METHOD:PUBLISH
X-WR-CALNAME:Todmorden Town Council
X-ORIGINAL-URL:https://todmorden-tc.gov.uk
X-WR-CALDESC:Events for Todmorden Town Council
REFRESH-INTERVAL;VALUE=DURATION:PT1H
X-Robots-Tag:noindex
X-PUBLISHED-TTL:PT1H
BEGIN:VTIMEZONE
TZID:Europe/London
BEGIN:DAYLIGHT
TZOFFSETFROM:+0000
TZOFFSETTO:+0100
TZNAME:BST
DTSTART:20250330T010000
END:DAYLIGHT
BEGIN:STANDARD
TZOFFSETFROM:+0100
TZOFFSETTO:+0000
TZNAME:GMT
DTSTART:20251026T010000
END:STANDARD
BEGIN:DAYLIGHT
TZOFFSETFROM:+0000
TZOFFSETTO:+0100
TZNAME:BST
DTSTART:20260329T010000
END:DAYLIGHT
BEGIN:STANDARD
TZOFFSETFROM:+0100
TZOFFSETTO:+0000
TZNAME:GMT
DTSTART:20261025T010000
END:STANDARD
BEGIN:DAYLIGHT
TZOFFSETFROM:+0000
TZOFFSETTO:+0100
TZNAME:BST
DTSTART:20270328T010000
END:DAYLIGHT
BEGIN:STANDARD
TZOFFSETFROM:+0100
TZOFFSETTO:+0000
TZNAME:GMT
DTSTART:20271031T010000
END:STANDARD
END:VTIMEZONE
BEGIN:VEVENT
DTSTART;TZID=Europe/London:20261216T193000
DTEND;TZID=Europe/London:20261216T210000
DTSTAMP:20260422T131713
CREATED:20260114T121606Z
LAST-MODIFIED:20260114T121606Z
UID:15908-1797449400-1797454800@todmorden-tc.gov.uk
SUMMARY:Full Council
DESCRIPTION:
URL:https://todmorden-tc.gov.uk/event/full-council-25/
LOCATION:Todmorden Town Hall\, Todmorden Town Council\, Todmorden\, Lancashire\, OL14 5AQ\, United Kingdom
CATEGORIES:Council Meeting
END:VEVENT
BEGIN:VEVENT
DTSTART;TZID=Europe/London:20261209T193000
DTEND;TZID=Europe/London:20261209T210000
DTSTAMP:20260422T131713
CREATED:20260114T121513Z
LAST-MODIFIED:20260114T121513Z
UID:15906-1796844600-1796850000@todmorden-tc.gov.uk
SUMMARY:Resources Committee
DESCRIPTION:
URL:https://todmorden-tc.gov.uk/event/resources-committee-24/
LOCATION:Todmorden Town Hall\, Todmorden Town Council\, Todmorden\, Lancashire\, OL14 5AQ\, United Kingdom
CATEGORIES:Council Meeting
END:VEVENT
BEGIN:VEVENT
DTSTART;TZID=Europe/London:20261202T193000
DTEND;TZID=Europe/London:20261202T210000
DTSTAMP:20260422T131713
CREATED:20260114T121431Z
LAST-MODIFIED:20260114T121431Z
UID:15904-1796239800-1796245200@todmorden-tc.gov.uk
SUMMARY:Development Committee
DESCRIPTION:
URL:https://todmorden-tc.gov.uk/event/development-committee-31/
LOCATION:Todmorden Town Hall\, Todmorden Town Council\, Todmorden\, Lancashire\, OL14 5AQ\, United Kingdom
CATEGORIES:Council Meeting
END:VEVENT
BEGIN:VEVENT
DTSTART;TZID=Europe/London:20261125T193000
DTEND;TZID=Europe/London:20261125T210000
DTSTAMP:20260422T131713
CREATED:20260114T121217Z
LAST-MODIFIED:20260114T121217Z
UID:15902-1795635000-1795640400@todmorden-tc.gov.uk
SUMMARY:Full Council
DESCRIPTION:
URL:https://todmorden-tc.gov.uk/event/full-council-24/
LOCATION:Todmorden Town Hall\, Todmorden Town Council\, Todmorden\, Lancashire\, OL14 5AQ\, United Kingdom
CATEGORIES:Council Meeting
END:VEVENT
BEGIN:VEVENT
DTSTART;TZID=Europe/London:20261118T193000
DTEND;TZID=Europe/London:20261118T210000
DTSTAMP:20260422T131713
CREATED:20260114T121038Z
LAST-MODIFIED:20260114T121038Z
UID:15900-1795030200-1795035600@todmorden-tc.gov.uk
SUMMARY:Climate Emergency Committee
DESCRIPTION:
URL:https://todmorden-tc.gov.uk/event/climate-emergency-committee-11/
LOCATION:Todmorden Town Hall\, Todmorden Town Council\, Todmorden\, Lancashire\, OL14 5AQ\, United Kingdom
CATEGORIES:Council Meeting
END:VEVENT
BEGIN:VEVENT
DTSTART;TZID=Europe/London:20261111T193000
DTEND;TZID=Europe/London:20261111T210000
DTSTAMP:20260422T131713
CREATED:20260114T120214Z
LAST-MODIFIED:20260114T120214Z
UID:15898-1794425400-1794430800@todmorden-tc.gov.uk
SUMMARY:Resources Committee
DESCRIPTION:
URL:https://todmorden-tc.gov.uk/event/resources-committee-23/
LOCATION:Todmorden Town Hall\, Todmorden Town Council\, Todmorden\, Lancashire\, OL14 5AQ\, United Kingdom
CATEGORIES:Council Meeting
END:VEVENT
BEGIN:VEVENT
DTSTART;TZID=Europe/London:20261104T193000
DTEND;TZID=Europe/London:20261104T210000
DTSTAMP:20260422T131713
CREATED:20260114T115416Z
LAST-MODIFIED:20260114T115416Z
UID:15896-1793820600-1793826000@todmorden-tc.gov.uk
SUMMARY:Development Committee
DESCRIPTION:
URL:https://todmorden-tc.gov.uk/event/development-committee-30/
LOCATION:Todmorden Town Hall\, Todmorden Town Council\, Todmorden\, Lancashire\, OL14 5AQ\, United Kingdom
CATEGORIES:Council Meeting
END:VEVENT
BEGIN:VEVENT
DTSTART;TZID=Europe/London:20261028T193000
DTEND;TZID=Europe/London:20261028T210000
DTSTAMP:20260422T131713
CREATED:20260114T114818Z
LAST-MODIFIED:20260114T114818Z
UID:15894-1793215800-1793221200@todmorden-tc.gov.uk
SUMMARY:Full Council
DESCRIPTION:
URL:https://todmorden-tc.gov.uk/event/full-council-23/
LOCATION:Todmorden Town Hall\, Todmorden Town Council\, Todmorden\, Lancashire\, OL14 5AQ\, United Kingdom
CATEGORIES:Council Meeting
END:VEVENT
BEGIN:VEVENT
DTSTART;TZID=Europe/London:20261021T193000
DTEND;TZID=Europe/London:20261021T210000
DTSTAMP:20260422T131713
CREATED:20260114T114736Z
LAST-MODIFIED:20260114T114736Z
UID:15892-1792611000-1792616400@todmorden-tc.gov.uk
SUMMARY:Staffing Committee
DESCRIPTION:
URL:https://todmorden-tc.gov.uk/event/staffing-committee-8/
LOCATION:Todmorden Town Hall\, Todmorden Town Council\, Todmorden\, Lancashire\, OL14 5AQ\, United Kingdom
CATEGORIES:Council Meeting
END:VEVENT
BEGIN:VEVENT
DTSTART;TZID=Europe/London:20261014T193000
DTEND;TZID=Europe/London:20261014T210000
DTSTAMP:20260422T131713
CREATED:20260114T114638Z
LAST-MODIFIED:20260114T114638Z
UID:15890-1792006200-1792011600@todmorden-tc.gov.uk
SUMMARY:Resources Committee
DESCRIPTION:
URL:https://todmorden-tc.gov.uk/event/resources-committee-22/
LOCATION:Todmorden Town Hall\, Todmorden Town Council\, Todmorden\, Lancashire\, OL14 5AQ\, United Kingdom
CATEGORIES:Council Meeting
END:VEVENT
BEGIN:VEVENT
DTSTART;TZID=Europe/London:20261007T193000
DTEND;TZID=Europe/London:20261007T210000
DTSTAMP:20260422T131713
CREATED:20260114T114542Z
LAST-MODIFIED:20260114T114542Z
UID:15888-1791401400-1791406800@todmorden-tc.gov.uk
SUMMARY:Development Committee
DESCRIPTION:
URL:https://todmorden-tc.gov.uk/event/development-committee-29/
LOCATION:Todmorden Town Hall\, Todmorden Town Council\, Todmorden\, Lancashire\, OL14 5AQ\, United Kingdom
CATEGORIES:Council Meeting
END:VEVENT
BEGIN:VEVENT
DTSTART;TZID=Europe/London:20260930T193000
DTEND;TZID=Europe/London:20260930T210000
DTSTAMP:20260422T131713
CREATED:20260114T114257Z
LAST-MODIFIED:20260114T114449Z
UID:15886-1790796600-1790802000@todmorden-tc.gov.uk
SUMMARY:Full Council
DESCRIPTION:
URL:https://todmorden-tc.gov.uk/event/full-council-22/
LOCATION:Todmorden Town Hall\, Todmorden Town Council\, Todmorden\, Lancashire\, OL14 5AQ\, United Kingdom
CATEGORIES:Council Meeting
END:VEVENT
BEGIN:VEVENT
DTSTART;TZID=Europe/London:20260916T193000
DTEND;TZID=Europe/London:20260916T210000
DTSTAMP:20260422T131713
CREATED:20260114T114041Z
LAST-MODIFIED:20260114T114138Z
UID:15883-1789587000-1789592400@todmorden-tc.gov.uk
SUMMARY:Climate Emergency Committee
DESCRIPTION:
URL:https://todmorden-tc.gov.uk/event/climate-emergency-committee-10/
LOCATION:Todmorden Town Hall\, Todmorden Town Council\, Todmorden\, Lancashire\, OL14 5AQ\, United Kingdom
CATEGORIES:Council Meeting
END:VEVENT
BEGIN:VEVENT
DTSTART;TZID=Europe/London:20260909T193000
DTEND;TZID=Europe/London:20260909T210000
DTSTAMP:20260422T131713
CREATED:20260114T112930Z
LAST-MODIFIED:20260114T112930Z
UID:15880-1788982200-1788987600@todmorden-tc.gov.uk
SUMMARY:Resources Committee
DESCRIPTION:
URL:https://todmorden-tc.gov.uk/event/resources-committee-21/
LOCATION:Todmorden Town Hall\, Todmorden Town Council\, Todmorden\, Lancashire\, OL14 5AQ\, United Kingdom
CATEGORIES:Council Meeting
END:VEVENT
BEGIN:VEVENT
DTSTART;TZID=Europe/London:20260902T193000
DTEND;TZID=Europe/London:20260902T210000
DTSTAMP:20260422T131713
CREATED:20260114T112804Z
LAST-MODIFIED:20260114T112805Z
UID:15878-1788377400-1788382800@todmorden-tc.gov.uk
SUMMARY:Development Committee
DESCRIPTION:
URL:https://todmorden-tc.gov.uk/event/development-committee-28/
LOCATION:Todmorden Town Hall\, Todmorden Town Council\, Todmorden\, Lancashire\, OL14 5AQ\, United Kingdom
CATEGORIES:Council Meeting
END:VEVENT
BEGIN:VEVENT
DTSTART;TZID=Europe/London:20260805T193000
DTEND;TZID=Europe/London:20260805T210000
DTSTAMP:20260422T131713
CREATED:20260114T112629Z
LAST-MODIFIED:20260114T112629Z
UID:15876-1785958200-1785963600@todmorden-tc.gov.uk
SUMMARY:Development Committee
DESCRIPTION:
URL:https://todmorden-tc.gov.uk/event/development-committee-27/
LOCATION:Todmorden Town Hall\, Todmorden Town Council\, Todmorden\, Lancashire\, OL14 5AQ\, United Kingdom
CATEGORIES:Council Meeting
END:VEVENT
BEGIN:VEVENT
DTSTART;TZID=Europe/London:20260729T193000
DTEND;TZID=Europe/London:20260729T210000
DTSTAMP:20260422T131713
CREATED:20260114T112530Z
LAST-MODIFIED:20260114T112530Z
UID:15874-1785353400-1785358800@todmorden-tc.gov.uk
SUMMARY:Full Council
DESCRIPTION:
URL:https://todmorden-tc.gov.uk/event/full-council-21/
LOCATION:Todmorden Town Hall\, Todmorden Town Council\, Todmorden\, Lancashire\, OL14 5AQ\, United Kingdom
CATEGORIES:Council Meeting
END:VEVENT
BEGIN:VEVENT
DTSTART;TZID=Europe/London:20260722T193000
DTEND;TZID=Europe/London:20260722T210000
DTSTAMP:20260422T131713
CREATED:20260114T112249Z
LAST-MODIFIED:20260114T112249Z
UID:15871-1784748600-1784754000@todmorden-tc.gov.uk
SUMMARY:Climate Emergency Committe
DESCRIPTION:
URL:https://todmorden-tc.gov.uk/event/climate-emergency-committe/
LOCATION:Todmorden Town Hall\, Todmorden Town Council\, Todmorden\, Lancashire\, OL14 5AQ\, United Kingdom
CATEGORIES:Council Meeting
END:VEVENT
BEGIN:VEVENT
DTSTART;TZID=Europe/London:20260708T193000
DTEND;TZID=Europe/London:20260708T210000
DTSTAMP:20260422T131713
CREATED:20260114T111751Z
LAST-MODIFIED:20260114T111751Z
UID:15869-1783539000-1783544400@todmorden-tc.gov.uk
SUMMARY:Resources Committee
DESCRIPTION:
URL:https://todmorden-tc.gov.uk/event/resources-committee-11/
LOCATION:Todmorden Town Hall\, Todmorden Town Council\, Todmorden\, Lancashire\, OL14 5AQ\, United Kingdom
CATEGORIES:Council Meeting
END:VEVENT
BEGIN:VEVENT
DTSTART;TZID=Europe/London:20260701T193000
DTEND;TZID=Europe/London:20260701T210000
DTSTAMP:20260422T131713
CREATED:20260114T111640Z
LAST-MODIFIED:20260114T111640Z
UID:15867-1782934200-1782939600@todmorden-tc.gov.uk
SUMMARY:Development Committee
DESCRIPTION:
URL:https://todmorden-tc.gov.uk/event/development-committee-26/
LOCATION:Todmorden Town Hall\, Todmorden Town Council\, Todmorden\, Lancashire\, OL14 5AQ\, United Kingdom
CATEGORIES:Council Meeting
END:VEVENT
BEGIN:VEVENT
DTSTART;TZID=Europe/London:20260624T193000
DTEND;TZID=Europe/London:20260624T210000
DTSTAMP:20260422T131713
CREATED:20260114T111011Z
LAST-MODIFIED:20260114T111155Z
UID:15865-1782329400-1782334800@todmorden-tc.gov.uk
SUMMARY:Full Council
DESCRIPTION:
URL:https://todmorden-tc.gov.uk/event/full-council-20/
LOCATION:Todmorden Town Hall\, Todmorden Town Council\, Todmorden\, Lancashire\, OL14 5AQ\, United Kingdom
CATEGORIES:Council Meeting
END:VEVENT
BEGIN:VEVENT
DTSTART;TZID=Europe/London:20260610T193000
DTEND;TZID=Europe/London:20260610T210000
DTSTAMP:20260422T131713
CREATED:20260114T110543Z
LAST-MODIFIED:20260114T111249Z
UID:15863-1781119800-1781125200@todmorden-tc.gov.uk
SUMMARY:Resources Committee
DESCRIPTION:
URL:https://todmorden-tc.gov.uk/event/resources-committee-8/
LOCATION:Todmorden Town Hall\, Todmorden Town Council\, Todmorden\, Lancashire\, OL14 5AQ\, United Kingdom
CATEGORIES:Council Meeting
END:VEVENT
BEGIN:VEVENT
DTSTART;TZID=Europe/London:20260603T193000
DTEND;TZID=Europe/London:20260603T210000
DTSTAMP:20260422T131713
CREATED:20260114T105710Z
LAST-MODIFIED:20260114T111258Z
UID:15861-1780515000-1780520400@todmorden-tc.gov.uk
SUMMARY:Development Committee
DESCRIPTION:
URL:https://todmorden-tc.gov.uk/event/development-committee-25/
LOCATION:Todmorden Town Hall\, Todmorden Town Council\, Todmorden\, Lancashire\, OL14 5AQ\, United Kingdom
CATEGORIES:Council Meeting
END:VEVENT
BEGIN:VEVENT
DTSTART;TZID=Europe/London:20260516T110000
DTEND;TZID=Europe/London:20260516T130000
DTSTAMP:20260422T131713
CREATED:20260114T105036Z
LAST-MODIFIED:20260114T105036Z
UID:15856-1778929200-1778936400@todmorden-tc.gov.uk
SUMMARY:Full Council Annual Meeting with Mayor Making
DESCRIPTION:
URL:https://todmorden-tc.gov.uk/event/full-council-annual-meeting-with-mayor-making/
LOCATION:Todmorden Town Hall\, Todmorden Town Council\, Todmorden\, Lancashire\, OL14 5AQ\, United Kingdom
CATEGORIES:Council Meeting
END:VEVENT
BEGIN:VEVENT
DTSTART;TZID=Europe/London:20260513T193000
DTEND;TZID=Europe/London:20260513T210000
DTSTAMP:20260422T131713
CREATED:20241018T112740Z
LAST-MODIFIED:20241018T112740Z
UID:13639-1778700600-1778706000@todmorden-tc.gov.uk
SUMMARY:Town Meeting
DESCRIPTION:
URL:https://todmorden-tc.gov.uk/event/town-meeting-2/
LOCATION:Todmorden Town Hall\, Todmorden Town Council\, Todmorden\, Lancashire\, OL14 5AQ\, United Kingdom
CATEGORIES:Council Meeting
END:VEVENT
BEGIN:VEVENT
DTSTART;TZID=Europe/London:20260429T193000
DTEND;TZID=Europe/London:20260429T210000
DTSTAMP:20260422T131713
CREATED:20241018T112654Z
LAST-MODIFIED:20241018T112654Z
UID:13637-1777491000-1777496400@todmorden-tc.gov.uk
SUMMARY:Development Committee
DESCRIPTION:
URL:https://todmorden-tc.gov.uk/event/development-committee-24/
LOCATION:Todmorden Town Hall\, Todmorden Town Council\, Todmorden\, Lancashire\, OL14 5AQ\, United Kingdom
CATEGORIES:Council Meeting
END:VEVENT
BEGIN:VEVENT
DTSTART;TZID=Europe/London:20260422T193000
DTEND;TZID=Europe/London:20260422T210000
DTSTAMP:20260422T131713
CREATED:20241018T112616Z
LAST-MODIFIED:20260415T134030Z
UID:13635-1776886200-1776891600@todmorden-tc.gov.uk
SUMMARY:Staffing Committee
DESCRIPTION:Summons and Agenda Staffing Committee April 2026 \nItem 5 Staffing Minutes 22nd October 2025 \nItem 6a TTC Staff Appraisal Training Development 2026 \nItem 6b Appraisal Guide for Employees (Great Britain) \nItem 6c Appraisal Guide for Employers (Great Britain) \nItem 7 Staffing Terms of Reference \nItem 8 Recruitment process and Info \nItem 9 TTC Call out and out of hours Policy
URL:https://todmorden-tc.gov.uk/event/staffing-committee-6/
LOCATION:Todmorden Town Hall\, Todmorden Town Council\, Todmorden\, Lancashire\, OL14 5AQ\, United Kingdom
CATEGORIES:Council Meeting
END:VEVENT
BEGIN:VEVENT
DTSTART;TZID=Europe/London:20260415T193000
DTEND;TZID=Europe/London:20260415T210000
DTSTAMP:20260422T131713
CREATED:20241018T112244Z
LAST-MODIFIED:20260409T140137Z
UID:13633-1776281400-1776286800@todmorden-tc.gov.uk
SUMMARY:Full Council
DESCRIPTION:Summons and Agenda Full Council – 15th April 2026 \nItem 5 Minutes FC 18th March 2026 \nItem 6a Draft Minutes April 1st Development Committee \nItem 6b Draft Resources Minutes 8th April 2026 \nItem 7a Financial Summary as at 31st March 2026 \nItem 7b EMRs 31st March 2026 \nItem 7c Balance Sheet as at 31_03_2026 \nItem 7d Detailed Income & Expenditure by Budget Heading 31_03_2026 \nItem 8 Schedule of Payments 11 Mar to 31 Mar 2026 \nItem 9 CIL Update \nItem 10 start of year Budget 26-27 \nItem 11a TTC Standing Orders March 2026 \nItem 11b Summary of Proposed Standing Order Amendments \nItem 12a Completed Projects \nItem 12b Outstanding Work
URL:https://todmorden-tc.gov.uk/event/full-council-19/
LOCATION:Todmorden Town Hall\, Todmorden Town Council\, Todmorden\, Lancashire\, OL14 5AQ\, United Kingdom
CATEGORIES:Council Meeting
END:VEVENT
BEGIN:VEVENT
DTSTART;TZID=Europe/London:20260408T193000
DTEND;TZID=Europe/London:20260408T210000
DTSTAMP:20260422T131713
CREATED:20241018T112153Z
LAST-MODIFIED:20260331T152016Z
UID:13631-1775676600-1775682000@todmorden-tc.gov.uk
SUMMARY:Resources Committee
DESCRIPTION:Resources Summons and Agenda 8th April 2026 \nItem 5 Resources Minutes 11th March 2026 \nItem 6a Financial Summary as at 31st March 2026 \nItem 6b EMRs Summary as at 31st March 2026 \nItem 6c Balance Sheet as at 31_03_2026 \nItem 6d Detailed Income & Expenditure by Budget Heading 31_03_2026 \nItem 7a – Tod Community Brass Band Feedback \nItem 7b – Tod Photographic Society Grant Feedback \nItem 7c – Tod Folk Festival Feedback Form \nItem 7d – Friends of CV Park Feedback \nItem 8a – Grant Application Tod Community Brass Band \nItem 8b – Grant Application Todmorden Photographic Society \nItem 8c – Grant Application Tod Folk Festival \nItem 8d – Grant Application Friends of CV Park \nItem 8e – Grant Application 9a Project Space CIC \nItem 8f – Grant Application Tod Kindness Crew \nItem 8g – Grant Application Calder Valley Swing \nItem 9a TTC Standing Orders March 2026 \nItem 9b Summary of Proposed Standing Order Amendments \nItem 11 Town Clerk Outstanding Items Register
URL:https://todmorden-tc.gov.uk/event/resources-committee-20/
LOCATION:Todmorden Town Hall\, Todmorden Town Council\, Todmorden\, Lancashire\, OL14 5AQ\, United Kingdom
CATEGORIES:Council Meeting
END:VEVENT
BEGIN:VEVENT
DTSTART;TZID=Europe/London:20260401T193000
DTEND;TZID=Europe/London:20260401T210000
DTSTAMP:20260422T131713
CREATED:20241018T112101Z
LAST-MODIFIED:20260326T170900Z
UID:13629-1775071800-1775077200@todmorden-tc.gov.uk
SUMMARY:Development Committee
DESCRIPTION:Summons and Agenda 1st April Development Committee \nItem 5 – Draft Minutes 4th March \nItem 6 – Planning Application Summaries Development Committee 1st April 2026 \nItem 7 – CMBC Planning Application Decisions 1st April 2026 \nItem 8 – Planning Appeal 1st April Development \nItem 9 – Josh Fenton-Glynn MP Response \nItem 11 – Warland Farm Woodland Creation \nItem 12 – Outstanding Work Register
URL:https://todmorden-tc.gov.uk/event/development-committee-23/
LOCATION:Todmorden Town Hall\, Todmorden Town Council\, Todmorden\, Lancashire\, OL14 5AQ\, United Kingdom
CATEGORIES:Council Meeting
END:VEVENT
END:VCALENDAR