BEGIN:VCALENDAR
VERSION:2.0
PRODID:-//Todmorden Town Council - ECPv6.15.20//NONSGML v1.0//EN
CALSCALE:GREGORIAN
METHOD:PUBLISH
X-WR-CALNAME:Todmorden Town Council
X-ORIGINAL-URL:https://todmorden-tc.gov.uk
X-WR-CALDESC:Events for Todmorden Town Council
REFRESH-INTERVAL;VALUE=DURATION:PT1H
X-Robots-Tag:noindex
X-PUBLISHED-TTL:PT1H
BEGIN:VTIMEZONE
TZID:Europe/London
BEGIN:DAYLIGHT
TZOFFSETFROM:+0000
TZOFFSETTO:+0100
TZNAME:BST
DTSTART:20230326T010000
END:DAYLIGHT
BEGIN:STANDARD
TZOFFSETFROM:+0100
TZOFFSETTO:+0000
TZNAME:GMT
DTSTART:20231029T010000
END:STANDARD
BEGIN:DAYLIGHT
TZOFFSETFROM:+0000
TZOFFSETTO:+0100
TZNAME:BST
DTSTART:20240331T010000
END:DAYLIGHT
BEGIN:STANDARD
TZOFFSETFROM:+0100
TZOFFSETTO:+0000
TZNAME:GMT
DTSTART:20241027T010000
END:STANDARD
BEGIN:DAYLIGHT
TZOFFSETFROM:+0000
TZOFFSETTO:+0100
TZNAME:BST
DTSTART:20250330T010000
END:DAYLIGHT
BEGIN:STANDARD
TZOFFSETFROM:+0100
TZOFFSETTO:+0000
TZNAME:GMT
DTSTART:20251026T010000
END:STANDARD
END:VTIMEZONE
BEGIN:VEVENT
DTSTART;TZID=Europe/London:20241120T193000
DTEND;TZID=Europe/London:20241120T213000
DTSTAMP:20260422T233529
CREATED:20240424T124409Z
LAST-MODIFIED:20241114T100917Z
UID:12556-1732131000-1732138200@todmorden-tc.gov.uk
SUMMARY:Full Council
DESCRIPTION:Public Participation Guidelines \nSummons and Agenda Town Council 20th November 2024 \nItem 5 Minutes FC 16th October 2024 \nItem 6a Staffing Minutes 23rd October 2024 \nItem 6b Draft Minutes of 6 November 2024 DC Meeting \nItem 7a Financial Summary as at 11th November 2024 \nItem 7a Financial Summary EMRS as at 11th November 2024 \nItem 7b Balance Sheet as at 11_11_2024 \nItem 7c Detailed Income & Expenditure by Budget Heading 11_11_2024 \nItem 8 Schedule of Payments 7th Oct to 11th Nov 2024 \nItem 10 Appendix 1 Todmorden NDP Referendum Version FC 20th Nov 2024 \nItem 10 Appendix 2 Todmorden Examiner’s Report \nItem 10 Appendix 3 Examiners Change in Policy Comparison \nItem 10 N Plan Report \nItem 11a Town Clerk Completed Project Work \nItem 11b Town Clerk Outstanding Project Work \nItem 12 Appendix 1 Todmorden High School Polytunnel Partnership Agreement – v2 8th Nov 2024 \nItem 12 Appendix 2 Polytunnel outline and costs \nItem 12 Todmorden In Bloom Polytunnel \nItem 13 Centre Vale Park Projects Update \nItem 14 Bandstand and Bowling Pavilion Tender for approval \nItem 14- Appendix 1 -Tender Document \nItem 14 Appendix 2 Tender process for Bandstand and Bowling Pavilion
URL:https://todmorden-tc.gov.uk/event/full-council-5/
LOCATION:Todmorden Town Hall\, Todmorden Town Council\, Todmorden\, Lancashire\, OL14 5AQ\, United Kingdom
CATEGORIES:Council Meeting
END:VEVENT
BEGIN:VEVENT
DTSTART;TZID=Europe/London:20241106T193000
DTEND;TZID=Europe/London:20241106T213000
DTSTAMP:20260422T233530
CREATED:20240424T124201Z
LAST-MODIFIED:20241105T112139Z
UID:12552-1730921400-1730928600@todmorden-tc.gov.uk
SUMMARY:Development Committee
DESCRIPTION:Public Participation Guidelines \nSummons and Agenda DC Meeting 6th November 2024 \nItem 5 of 6 November 2024 DC Meeting -Chair Approved Minutes of 2 October 2024 DC Meeting \nItem 6 (amended 5 Nov) of 6 November 2024 DC Meeting – Planning Applications Summary \nItem 8 of 6 November 2024 DC Meeting – CMBC Decisions on Planning Applications \nItem 9 of 6 November 2024 DC Meeting \nItem 11 Appendix 1 Todmorden NDP Referendum Version DC 6th Nov 2024 \nItem 11 Appendix 2 Todmorden Examiner’s Report \nItem 11 Appendix 3 Examiners Change in Policy Comparison \nItem 11 N Plan Report \nItem 12 Appendix 2 of 6 November 2024 DC Meeting – Proposed TRO Order \nItem 12 Appendix 1 of 6 November 2024 DC Meeting – Proposed TRO – Station Approach \nItem 12 Appendix 3 of 6 November DC Meeting – Notice of Proposal – Station Approach \nItem 12 Appendix 4 of 6 November 2024 DC Meeting – Statement of Reasons for Changes
URL:https://todmorden-tc.gov.uk/event/development-committee-6/
LOCATION:Todmorden Town Hall\, Todmorden Town Council\, Todmorden\, Lancashire\, OL14 5AQ\, United Kingdom
CATEGORIES:Council Meeting
END:VEVENT
BEGIN:VEVENT
DTSTART;TZID=Europe/London:20241023T193000
DTEND;TZID=Europe/London:20241023T213000
DTSTAMP:20260422T233530
CREATED:20240424T124040Z
LAST-MODIFIED:20241017T090414Z
UID:12550-1729711800-1729719000@todmorden-tc.gov.uk
SUMMARY:Staffing Committee
DESCRIPTION:Public Participation Guidelines \nSummons and Agenda Staffing Committee 23rd October 2024 \nItem 5 Staffing Minutes 26 June 2024
URL:https://todmorden-tc.gov.uk/event/staffing-committee/
LOCATION:Todmorden Town Hall\, Todmorden Town Council\, Todmorden\, Lancashire\, OL14 5AQ\, United Kingdom
CATEGORIES:Council Meeting
END:VEVENT
BEGIN:VEVENT
DTSTART;TZID=Europe/London:20241016T193000
DTEND;TZID=Europe/London:20241016T213000
DTSTAMP:20260422T233530
CREATED:20240424T123941Z
LAST-MODIFIED:20241010T090440Z
UID:12548-1729107000-1729114200@todmorden-tc.gov.uk
SUMMARY:Full Council
DESCRIPTION:Public Participation Guidelines \nSummons and Agenda Town Council 16th October 2024 \nItem 5 Minutes FC 18th Sept 2024 \nItem 6a Resources Minutes 25th September 24 \nItem 6b Draft Development Minutes 2nd Oct \nItem 6c Resources Minutes 9th October 24 \nItem 7a Financial Summary as at 6th October 2024 \nItem 7a Financial Summary EMR as at 6th October 2024 \nItem 7b Balance Sheet as at 06_10_2024 \nItem 7c Detailed Income & Expenditure by Budget Heading 06_10_2024 \nItem 8 Payment schedule 10th Sept to 6th Oct \nItem 9 Proposed Meeting schedule 25-26 \nItem 10 End of Year External Auditors Report 23-24 \nItem 11 Interim Audit Report_Redacted \nItem 12 App 1 Budget Summary 2025-26 \nItem 12 App 2 Budget breakdown 2025-26 \nItem 12 Draft Budget 2025-26 Report \nItem 13a Town Clerks Completed Project Work \nItem 13b Town Clerk Outstanding project work
URL:https://todmorden-tc.gov.uk/event/full-council-4/
LOCATION:Todmorden Town Hall\, Todmorden Town Council\, Todmorden\, Lancashire\, OL14 5AQ\, United Kingdom
CATEGORIES:Council Meeting
END:VEVENT
BEGIN:VEVENT
DTSTART;TZID=Europe/London:20241009T193000
DTEND;TZID=Europe/London:20241009T213000
DTSTAMP:20260422T233530
CREATED:20240424T123839Z
LAST-MODIFIED:20241007T102317Z
UID:12546-1728502200-1728509400@todmorden-tc.gov.uk
SUMMARY:Resources Committee
DESCRIPTION:Public Participation Guidelines \nResources Summons and Agenda 9th October 2024 \nItem 5 Resources Minutes 25th September 24 \nItem 6a Financial Summary as at 1st October 2024 \nItem 6a Financial Summary EMRs as at 1st October 2024 \nItem 6b Detailed Income & Expenditure by Budget Heading 01_10_2024 \nItem 6c Balance Sheet as at 01_10_2024 \nItem 7a TTC Grant Feedback Hippodrome \nItem 8a – HeptEx-Richard Naylor Grant Application \nItem 8b POD Calder Valley Transport Grant Application_Redacted \nItem 8c Grant Application Tod Kindness Crew_Redacted \nItem 9 Draft Budget 2025-26 Report \nItem 9 App 1 Budget Summary 2025-26 \nItem 9 App 2 Budget breakdown 2025-26 \nItem 10 TIC Quarterly Report September 24 \nItem 11 Town Clerk Outstanding Items Register
URL:https://todmorden-tc.gov.uk/event/resources-committee-4/
LOCATION:Todmorden Town Hall\, Todmorden Town Council\, Todmorden\, Lancashire\, OL14 5AQ\, United Kingdom
CATEGORIES:Council Meeting
END:VEVENT
BEGIN:VEVENT
DTSTART;TZID=Europe/London:20241002T193000
DTEND;TZID=Europe/London:20241002T213000
DTSTAMP:20260422T233530
CREATED:20240424T123736Z
LAST-MODIFIED:20240926T114222Z
UID:12544-1727897400-1727904600@todmorden-tc.gov.uk
SUMMARY:Development Committee
DESCRIPTION:Town Council meetings are not public meetings\, but members of the public have a statutory right to attend as observers. Members of the public do not have a legal right to speak unless authorised by the Chair\, however\, the Town Council allocates a time during each meeting for public participation where members of the public are invited to speak\, but only on the business listed on the agenda.  So that we can conduct meetings efficiently and transparently\, allowing for meaningful public participation while adhering to legal standards\, we have prepared some guidelines for public participation.  Please give them a read before attending one of our meetings.  They are available in HTML format on the Meetings page of our website or below in PDF format. \nPublic Participation Guidelines \nSummons and Agenda DC Meeting 2 October 2024 \nItem 9b of 2 October DC Meeting – List of Development Issues Raised 2019-2024 Outstanding \nItem 8 of 2 October 2024 DC Meeting – CMBC Decisions on Planning Applications \nItem 6 of 2 October 2024 DC Meeting – Planning Applications Summary \nItem 5 of 2 October 2024 DC Meeting – Draft Minutes of 4 September 2024 DC Meeting
URL:https://todmorden-tc.gov.uk/event/development-committee/
LOCATION:Todmorden Town Hall\, Todmorden Town Council\, Todmorden\, Lancashire\, OL14 5AQ\, United Kingdom
CATEGORIES:Council Meeting
END:VEVENT
BEGIN:VEVENT
DTSTART;TZID=Europe/London:20240925T193000
DTEND;TZID=Europe/London:20240925T213000
DTSTAMP:20260422T233530
CREATED:20240424T120905Z
LAST-MODIFIED:20240918T103838Z
UID:12535-1727292600-1727299800@todmorden-tc.gov.uk
SUMMARY:Resources Committee
DESCRIPTION:Town Council meetings are not public meetings\, but members of the public have a statutory right to attend as observers. Members of the public do not have a legal right to speak unless authorised by the Chair\, however\, the Town Council allocates a time during each meeting for public participation where members of the public are invited to speak\, but only on the business listed on the agenda.  So that we can conduct meetings efficiently and transparently\, allowing for meaningful public participation while adhering to legal standards\, we have prepared some guidelines for public participation.  Please give them a read before attending one of our meetings.  They are available in HTML format on the Meetings page of our website or below in PDF format. \n  \nPublic Participation Guidelines \nResources Summons and Agenda 25th Sept 2024 \nItem 5 Resources Minutes 31st July 2024 \nItem 6a Financial Summary as at 16th September 2024 \nItem 6a Financial Summary EMRS as at 16th September 2024 \nItem 6b Detailed Income & Expenditure by Budget Heading 16_09_2024 \nItem 6c Balance Sheet as at 16_09_2024 \nItem 7a Grant-Feedback-Old Library \nItem 8 App 1 Detailed Budget breakdown 2025-26 \nItem 8 App 2 Budget breakdown 2025-26 \nItem 8 First Draft Budget 2025-26 Report \nItem 9a Clerks completed project work \nItem 9b Clerks outstanding project work \n 
URL:https://todmorden-tc.gov.uk/event/resources-committee-3/
LOCATION:Todmorden Town Hall\, Todmorden Town Council\, Todmorden\, Lancashire\, OL14 5AQ\, United Kingdom
CATEGORIES:Council Meeting
END:VEVENT
BEGIN:VEVENT
DTSTART;TZID=Europe/London:20240918T193000
DTEND;TZID=Europe/London:20240918T213000
DTSTAMP:20260422T233530
CREATED:20240424T123629Z
LAST-MODIFIED:20240911T125257Z
UID:12542-1726687800-1726695000@todmorden-tc.gov.uk
SUMMARY:Full Council
DESCRIPTION:Town Council meetings are not public meetings\, but members of the public have a statutory right to attend as observers. Members of the public do not have a legal right to speak unless authorised by the Chair\, however\, the Town Council allocates a time during each meeting for public participation where members of the public are invited to speak\, but only on the business listed on the agenda.  So that we can conduct meetings efficiently and transparently\, allowing for meaningful public participation while adhering to legal standards\, we have prepared some guidelines for public participation.  Please give them a read before attending one of our meetings.  They are available in HTML format on the Meetings page of our website or below in PDF format. \nPublic Participation Guidelines \nSummons and Agenda Town Council 18th September 2024 \nItem 5 Minutes FC 17th July 2024 \nItem 6a Draft Resources Minutes 31st July 2024 \nItem 6b Minutes of 7 August 2024 DC Meeting \nItem 6c Draft Minutes 28 August 2024 CEC Meeting \nItem 6d Draft Minutes of 4 September 2024 DC Meeting \nItem 7a Financial Summary as at 9th September 2024 EMRS \nItem 7a Financial Summary as at 9th September 2024 \nItem 7b Balance Sheet as at 09_09_2024 \nItem 7c Detailed Income & Expenditure by Budget Heading 09_09_2024 \nItem 8 Payment schedule 10th July to 9th Sept \nItem 9 CROWS – Tod Town Council 2024_25 Budget monitoring Spreadsheet \nItem 10 – Todmorden Golf Club Grant \nItem 11a Completed Work \nItem 11b Outstanding work \n 
URL:https://todmorden-tc.gov.uk/event/full-council-3/
LOCATION:Todmorden Town Hall\, Todmorden Town Council\, Todmorden\, Lancashire\, OL14 5AQ\, United Kingdom
CATEGORIES:Council Meeting
END:VEVENT
BEGIN:VEVENT
DTSTART;TZID=Europe/London:20240904T193000
DTEND;TZID=Europe/London:20240904T213000
DTSTAMP:20260422T233530
CREATED:20240424T120811Z
LAST-MODIFIED:20240829T113932Z
UID:12533-1725478200-1725485400@todmorden-tc.gov.uk
SUMMARY:Development Committee
DESCRIPTION:Town Council meetings are not public meetings\, but members of the public have a statutory right to attend as observers. Members of the public do not have a legal right to speak unless authorised by the Chair\, however\, the Town Council allocates a time during each meeting for public participation where members of the public are invited to speak\, but only on the business listed on the agenda.  So that we can conduct meetings efficiently and transparently\, allowing for meaningful public participation while adhering to legal standards\, we have prepared some guidelines for public participation.  Please give them a read before attending one of our meetings.  They are available in HTML format on the meetings page of our website or below in PDF format. \nPublic Participation Guidelines \nSummons and Agenda DC Meeting 4 September 2024 \nItem 5 of 4 September 2024 DC Meeting- Chair Approved Minutes 7 August 2024 \nItem 6 of 4 September 2024 DC Meeting – Planning Applications Summary \nItem 8 of 4 September 2024 DC Meeting – CMBC Decisions on Planning Applications \nItem 9b of 4 September 2024 DC Meeting – List of Development Issues Raised 2019-2024 \n 
URL:https://todmorden-tc.gov.uk/event/development-committee-5/
LOCATION:Todmorden Town Hall\, Todmorden Town Council\, Todmorden\, Lancashire\, OL14 5AQ\, United Kingdom
CATEGORIES:Council Meeting
END:VEVENT
BEGIN:VEVENT
DTSTART;TZID=Europe/London:20240828T193000
DTEND;TZID=Europe/London:20240828T213000
DTSTAMP:20260422T233530
CREATED:20240424T133058Z
LAST-MODIFIED:20240820T125559Z
UID:12599-1724873400-1724880600@todmorden-tc.gov.uk
SUMMARY:Climate Emergency Committee
DESCRIPTION:Town Council meetings are not public meetings\, but members of the public have a statutory right to attend as observers. Members of the public do not have a legal right to speak unless authorised by the Chair\, however\, the Town Council allocates a time during each meeting for public participation where members of the public are invited to speak on the business on the agenda.  So that we can conduct meetings efficiently and transparently\, allowing for meaningful public participation while adhering to legal standards\, we have prepared some guidelines for public participation.  Please give them a read before attending one of our meetings.  They are available in HTML format on the meetings page of our website or below in PDF format. \nPublic Participation Guidelines \nSummons and Agenda 28th August 2024 Climate Emergency Committee \nItem 5 CEC Minutes May 2024 \nItem 7 Article on Tod Tomorrow \nItem 8 -My Tree Promise 2024-25 \nItem 9 – Cargodale Grant Application \nItem 10 Climate Budget 25-26
URL:https://todmorden-tc.gov.uk/event/climate-emergency-committee-4/
LOCATION:Todmorden Town Hall\, Todmorden Town Council\, Todmorden\, Lancashire\, OL14 5AQ\, United Kingdom
CATEGORIES:Council Meeting
END:VEVENT
BEGIN:VEVENT
DTSTART;TZID=Europe/London:20240807T193000
DTEND;TZID=Europe/London:20240807T213000
DTSTAMP:20260422T233530
CREATED:20240424T115721Z
LAST-MODIFIED:20240801T144150Z
UID:12529-1723059000-1723066200@todmorden-tc.gov.uk
SUMMARY:Development Committee
DESCRIPTION:Town Council meetings are not public meetings\, but members of the public have a statutory right to attend as observers. Members of the public do not have a legal right to speak unless authorised by the Chair\, however\, the Town Council allocates a time during each meeting for public participation where members of the public are invited to speak on the business on the agenda.  So that we can conduct meetings efficiently and transparently\, allowing for meaningful public participation while adhering to legal standards\, we have prepared some guidelines for public participation.  Please give them a read before attending one of our meetings.  They are available in HTML format on the meetings page of our website or below in PDF format. \nPublic Participation Guidelines \nSummons and Agenda DC Meeting 7 August 2024 \nItem 5 of 7 August 2024 DC Meeting – Chair Approved Minutes of 3 July 2024 DC Meeting \nItem 6 of 7 August 2024 DC Meeting – Planning Applications Summary \nItem 8 of 7 August 2024 DC Meeting – CMBC Decisions on Planning Applications \nItem 9a of 7 August 2024 DC Meeting – List of Development Issues Raised 2019-2024 \nItem 10 Appendix 1 Examiners Todmorden Clarification Letter \nItem 10 Appendix 2 TTC Response to Examiner \nItem 10 Appendix 3 N Plan Policies relating to Examiners Clarification \nItem 10 Neighbourhood Plan Examiners Clarification
URL:https://todmorden-tc.gov.uk/event/development-committee-4/
LOCATION:Todmorden Town Hall\, Todmorden Town Council\, Todmorden\, Lancashire\, OL14 5AQ\, United Kingdom
CATEGORIES:Council Meeting
END:VEVENT
BEGIN:VEVENT
DTSTART;TZID=Europe/London:20240731T193000
DTEND;TZID=Europe/London:20240731T213000
DTSTAMP:20260422T233530
CREATED:20240424T115432Z
LAST-MODIFIED:20240723T152600Z
UID:12525-1722454200-1722461400@todmorden-tc.gov.uk
SUMMARY:Resources Committee
DESCRIPTION:Resources Summons and Agenda 31st July 2024 \nItem 5 Resources Minutes 12th June 2024 \nItem 6a Financial Summary as at 22nd July 2024 \nItem 6a Financial Summary EMRs as at 22nd July 2024 \nItem 6b Detailed Income & Expenditure by Budget Heading 22_07_2024 \nItem 6c Balance Sheet as at 22_07_2024 \nItem 7a Grant Feedback Friends of Centre Vale Park \nItem 8 TIC Grant report June 2024 \nItem 9a Todmorden Golf Club Grant Application (including report) \nItem 10 – Appendix 1- Quote 5434 – Mayoral Portraits -Redacted \nItem 10 Mayoral Portrait Frame Proposal 2024 \nItem 11 Denis’ Fields Grants funding realocation request \nItem 12 Appendix 1 -CMBC Budget \nItem 12 Festive Lights \nItem 13 Resources Centre Vale Park Projects Update \nItem 14 Old bank \nItem 15a Town Clerk Completed Project Work \nItem 15b Town Clerk Outstanding Project Work
URL:https://todmorden-tc.gov.uk/event/resources-committee-2/
LOCATION:Todmorden Town Hall\, Todmorden Town Council\, Todmorden\, Lancashire\, OL14 5AQ\, United Kingdom
CATEGORIES:Council Meeting
END:VEVENT
BEGIN:VEVENT
DTSTART;TZID=Europe/London:20240717T193000
DTEND;TZID=Europe/London:20240717T213000
DTSTAMP:20260422T233530
CREATED:20240424T115521Z
LAST-MODIFIED:20240716T134841Z
UID:12527-1721244600-1721251800@todmorden-tc.gov.uk
SUMMARY:Full Council
DESCRIPTION:Summons and Agenda Town Council 17th July 2024 \nItem 5 Minutes FC 19th June 2024 \nItem 6a Staffing Minutes 26 June 2024 \nItem 6b Draft Minutes of 3 July 2024 DC Meeting \nItem 7a Financial Summary as at 9th July 2024 \nItem 7a Financial Summary EMRs as at 9th July 2024 \nItem 7b Balance Sheet as at 09_07_2024 \nItem 7c Detailed Income & Expenditure by Budget Heading 09_07_2024 \nItem 8 Payments 12th June to 9th July 2024 \nItem 10 Building_Owner_Permission_Form (Blank)_ \nItem 12a Town Clerk Completed Project Work \nItem 12b Town Clerk Outstanding Project Work \n 
URL:https://todmorden-tc.gov.uk/event/full-council-2/
LOCATION:Todmorden Town Hall\, Todmorden Town Council\, Todmorden\, Lancashire\, OL14 5AQ\, United Kingdom
CATEGORIES:Council Meeting
END:VEVENT
BEGIN:VEVENT
DTSTART;TZID=Europe/London:20240703T193000
DTEND;TZID=Europe/London:20240703T213000
DTSTAMP:20260422T233530
CREATED:20240424T115302Z
LAST-MODIFIED:20240627T140442Z
UID:12523-1720035000-1720042200@todmorden-tc.gov.uk
SUMMARY:Development Committee
DESCRIPTION:Summons and Agenda DC Meeting 3 July 2024 \nItem 5 of 3 July 2024 DC Meeting – Chair Approved Minutes from 5 June 2024 Meeting \nItem 6 of 3 July 2024 DC Meeting – Planning Applications Summary \nItem 8 of 3 July 2024 DC Meeting – CMBC Decisions on Planning Applications \nItem 9b of 3 July 2024 DC Meeting – List of Development Issues Raised 2019-2024 \nItem 11 Development Committee 3 July 2024 – Sewage Outflows \n 
URL:https://todmorden-tc.gov.uk/event/development-committee-3/
LOCATION:Todmorden Town Hall\, Todmorden Town Council\, Todmorden\, Lancashire\, OL14 5AQ\, United Kingdom
CATEGORIES:Council Meeting
END:VEVENT
BEGIN:VEVENT
DTSTART;TZID=Europe/London:20240626T193000
DTEND;TZID=Europe/London:20240626T203000
DTSTAMP:20260422T233530
CREATED:20240620T063004Z
LAST-MODIFIED:20240620T063004Z
UID:12966-1719430200-1719433800@todmorden-tc.gov.uk
SUMMARY:Staffing Committee
DESCRIPTION:Summons and Agenda Staffing Committee 26th June 2024 \nItem 5 Staffing Minutes 4th October 2023
URL:https://todmorden-tc.gov.uk/event/staffing-committee-3/
LOCATION:Lancashire
END:VEVENT
BEGIN:VEVENT
DTSTART;TZID=Europe/London:20240619T193000
DTEND;TZID=Europe/London:20240619T213000
DTSTAMP:20260422T233530
CREATED:20240424T115204Z
LAST-MODIFIED:20240613T134203Z
UID:12521-1718825400-1718832600@todmorden-tc.gov.uk
SUMMARY:Full Council
DESCRIPTION:Summons and Agenda Town Council 19th June 2024 \nItem 5 Minutes FC 25th May 2024 \nItem 6a CEC Minutes May 2024 \nItem 6b Draft Minutes Development Committee Meeting 5 June 2024 \nItem 6c Draft Resources Minutes 12th June 2024 \nItem 7a Financial Summary as at 12th June 2024 EMRS \nItem 7a Financial Summary as at 12th June 2024 \nItem 7b Balance Sheet as at 11_06_2024 \nItem 7c Detailed Income & Expenditure by Budget Heading 11_06_2024 \nItem 8 Payment Schedule 15th May to 11th June \nItem 9 Todmorden Flood Emergency Plan – draft March 2024 \nItem 10a Town Clerk Completed Project Works \nItem 10b Town Clerk Outstanding Project Work
URL:https://todmorden-tc.gov.uk/event/full-council/
LOCATION:Todmorden Town Hall\, Todmorden Town Council\, Todmorden\, Lancashire\, OL14 5AQ\, United Kingdom
CATEGORIES:Council Meeting
END:VEVENT
BEGIN:VEVENT
DTSTART;TZID=Europe/London:20240612T193000
DTEND;TZID=Europe/London:20240612T213000
DTSTAMP:20260422T233530
CREATED:20240424T115118Z
LAST-MODIFIED:20240606T123209Z
UID:12519-1718220600-1718227800@todmorden-tc.gov.uk
SUMMARY:Resources Committee
DESCRIPTION:Resources Summons and Agenda 12th June 2024 \nItem 5 Resources Minutes 17th April 2024 \nItem 6a Financial Summary as at 3rd June 2024 \nItem 6a Financial Summary EMRs as at 3rd June 2024 \nItem 6b Detailed Income & Expenditure by Budget Heading 03_06_2024 \nItem 6c Balance Sheet as at 03_06_2024 \nItem 7a Grant Feedback – Golden Lion Sounds CIC \nItem 7b Grant Feedback – Todmorden Book Festival \nItem 7c Grant Feedback – Handmade Productions \nItem 7d Grant Feedback – Todmorden Orchestra \nItem 8a Golden Lion Sounds CIC Grant Application_Redacted \nItem 8b Calderdale Friends of Dorothy Grant Application \nItem 8c Tod Orchestra Grant Application \nItem 8d Tod Photographic Soc Grant Application \nItem 8e Tod. Community Brass Band Grant Application_Redacted \nItem 8f Todmorden Golf Club Grant Application (including report) \nItem 8g Todmorden Book Festival – Grant Application_Redacted \nItem 8h Handmade Productions – Grant Application_Redacted \nItem 9a Town Clerks Completed Project Work \nItem 9b Town Clerk Outstanding Project Work \n 
URL:https://todmorden-tc.gov.uk/event/resources-committee/
LOCATION:Todmorden Town Hall\, Todmorden Town Council\, Todmorden\, Lancashire\, OL14 5AQ\, United Kingdom
CATEGORIES:Council Meeting
END:VEVENT
BEGIN:VEVENT
DTSTART;TZID=Europe/London:20240605T193000
DTEND;TZID=Europe/London:20240605T213000
DTSTAMP:20260422T233530
CREATED:20240424T115024Z
LAST-MODIFIED:20240531T082223Z
UID:12517-1717615800-1717623000@todmorden-tc.gov.uk
SUMMARY:Development Committee
DESCRIPTION:Summons and Agenda DC Meeting 5 June 2024 \nItem 5 of 5 June 2024 DC Meeting – Chair Approved Minutes of 24 April 2024 DC Meeting \nItem 6 of 5 June 2024 DC Meeting – Terms of Reference Development Committee \nUpdated 29 May 2024 – Item 7 of 5 June 2024 DC Meeting – Planning Applications Summary \nItem 8 of 5 June 2024 DC Meeting – Adamroyd Building Site \nItem 9 of 5 June 2024 DC Meeting – CMBC Decisions on Planning Applications \nItem 10b of 5 June 2024 DC Meeting – List of Development Issues Raised 2019-2024 \nItem 11 of 5 June 2024 DC Meeting – Condition of Centre of Todmorden \nItem 11 App 1 Development Committee 5 June 2024 \nItem 12 of 5 June 2024 DC Meeting – Condition of Hallroyd Rd Railway Bridge \nItem 13 Development Committee 5 June 2024 – Bus Services \nItem 14 Development Committee 5 June 2024 – Meeting with Network Rail \nItem 15 App 1 of 5 June 2024 DC Meeting – Pudsey Road to Shaw New Road Order No 1 2024 \nItem 15 App 2 of 5 June 2024 DC MeetingNotice of Making – Pudsey Road 15T (Site) \nItem 15 App 3 of 5 June 2024 DC Meeting – Draft Order Plan – Pudsey Road 15T
URL:https://todmorden-tc.gov.uk/event/development-committee-2/
LOCATION:Todmorden Town Hall\, Todmorden Town Council\, Todmorden\, Lancashire\, OL14 5AQ\, United Kingdom
CATEGORIES:Council Meeting
END:VEVENT
BEGIN:VEVENT
DTSTART;TZID=Europe/London:20240529T193000
DTEND;TZID=Europe/London:20240529T213000
DTSTAMP:20260422T233530
CREATED:20240424T100932Z
LAST-MODIFIED:20240523T124218Z
UID:12513-1717011000-1717018200@todmorden-tc.gov.uk
SUMMARY:Climate Emergency Committee
DESCRIPTION:Summons and Agenda 29th May 2024 Climate Emergency Committee \nItem 5 CEC Minutes March 2024 \nItem 6 Draft Climate Newsletter Article Climate Assembly \nItem 7a Write up of Climate Assembly \nItem 7b Organisations that attended the Climate Assembly \nItem 7c Feedback from Climate assembly \nItem 12a 3 Valley Vegans grant application \nItem 12b TCE Grant Application \n 
URL:https://todmorden-tc.gov.uk/event/climate-emergency-committee/
LOCATION:Todmorden Town Hall\, Todmorden Town Council\, Todmorden\, Lancashire\, OL14 5AQ\, United Kingdom
CATEGORIES:Council Meeting
END:VEVENT
BEGIN:VEVENT
DTSTART;TZID=Europe/London:20240525T113000
DTEND;TZID=Europe/London:20240525T133000
DTSTAMP:20260422T233530
CREATED:20240424T095244Z
LAST-MODIFIED:20240524T092136Z
UID:12511-1716636600-1716643800@todmorden-tc.gov.uk
SUMMARY:Full Council Annual Meeting
DESCRIPTION:Summons and Agenda Town Council 25th May 2023 \nItem 5 TTC 24 Final Internal Audit Report_Redacted \nItem 18a Minutes FC 10th April 2024 \nItem 18b Minutes FC 15th May 2024 \nItem 19a Resources Minutes 17th April 2024 \nItem 19b Development Committee Minutes 24-4-24 \nItem 20a Financial Summary as at 15th May 2024 \nItem 20b Balance Sheet as at 15_05_2024 \nItem 20c Detailed Income & Expenditure by Budget Heading 15_05_2024 \nItem 21 Payment Schedule 1st April -14th May 2024 \nItem 22a Full Council May 2024 – Completed Project Work \nItem 22b Full Council May 2024 – Outstanding Project Work \nItem 23 Appendix 2 LGA general-power-competence \n  \n  \n  \n 
URL:https://todmorden-tc.gov.uk/event/full-council-annual-meeting/
LOCATION:Todmorden Town Hall\, Todmorden Town Council\, Todmorden\, Lancashire\, OL14 5AQ\, United Kingdom
END:VEVENT
BEGIN:VEVENT
DTSTART;TZID=Europe/London:20240515T193000
DTEND;TZID=Europe/London:20240515T213000
DTSTAMP:20260422T233530
CREATED:20240507T093413Z
LAST-MODIFIED:20240515T075152Z
UID:12729-1715801400-1715808600@todmorden-tc.gov.uk
SUMMARY:Extra Ordinary Meeting
DESCRIPTION:This meeting is open to the Public. \nAll enquiries or requests to speak on an item on the agenda should be received by the Town Clerk at townclerk@todmorden-tc.gov.uk  no later than midday on Monday 13th May 2024. \n  \n  \nEO Summons and Agenda Town Council 15th May 2024  \n  \nItem 6 Annual Governance and Accounting Return \nItem 7 Annual Governance Return Section 1 \nItem 8 Annual Governance Return Section 2 \nItem 9 App 1 Awards for all application \nItem 9 Awards For All Community Engagement Officer \nItem 10 – Bowling Pavilion – Community Energy Scheme Use \nItem 11 Asset Register removals
URL:https://todmorden-tc.gov.uk/event/extra-ordinary-meeting/
LOCATION:Todmorden Town Hall\, Todmorden Town Council\, Todmorden\, Lancashire\, OL14 5AQ\, United Kingdom
CATEGORIES:Council Meeting
END:VEVENT
END:VCALENDAR